BEGIN:VCALENDAR
VERSION:2.0
PRODID:icalendar-ruby
CALSCALE:GREGORIAN
BEGIN:VEVENT
DTSTAMP:20260425T164850Z
UID:993d3a71-88db-489f-9ba3-3220a1394100
DTSTART;VALUE=DATE:20251113
DTEND;VALUE=DATE:20251115
SUMMARY:Year 5 Camp
END:VEVENT
END:VCALENDAR
