BEGIN:VCALENDAR
VERSION:2.0
PRODID:icalendar-ruby
CALSCALE:GREGORIAN
BEGIN:VEVENT
DTSTAMP:20260425T164851Z
UID:9af6741c-2cd7-468b-8aab-3618b7e7d41c
DTSTART;VALUE=DATE:20251117
DTEND;VALUE=DATE:20251122
SUMMARY:Senior Swimming 
END:VEVENT
END:VCALENDAR
