BEGIN:VCALENDAR
VERSION:2.0
PRODID:icalendar-ruby
CALSCALE:GREGORIAN
BEGIN:VEVENT
DTSTAMP:20260425T164828Z
UID:69258951-c859-4754-a4db-f3ead88cde2b
DTSTART;VALUE=DATE:20251121
DTEND;VALUE=DATE:20251122
SUMMARY:PTA Ice Cream Day
END:VEVENT
END:VCALENDAR
