BEGIN:VCALENDAR
VERSION:2.0
PRODID:icalendar-ruby
CALSCALE:GREGORIAN
BEGIN:VEVENT
DTSTAMP:20260425T164850Z
UID:ae0f2f98-831d-41c7-87f4-fcb160de7051
DTSTART;VALUE=DATE:20251126
DTEND;VALUE=DATE:20251127
SUMMARY:Year 6 Transition Day to Māruawai College
END:VEVENT
END:VCALENDAR
