BEGIN:VCALENDAR
VERSION:2.0
PRODID:icalendar-ruby
CALSCALE:GREGORIAN
BEGIN:VEVENT
DTSTAMP:20260425T164839Z
UID:d308e993-8a4c-4d0b-ba48-fec8382dd54c
DTSTART;VALUE=DATE:20251127
DTEND;VALUE=DATE:20251128
SUMMARY:Year 6 Transition Day to St Peters College
END:VEVENT
END:VCALENDAR
