BEGIN:VCALENDAR
VERSION:2.0
PRODID:icalendar-ruby
CALSCALE:GREGORIAN
BEGIN:VEVENT
DTSTAMP:20260425T164828Z
UID:8061e2e2-9a0f-4431-922b-580a7c2ae917
DTSTART;VALUE=DATE:20251128
DTEND;VALUE=DATE:20251129
SUMMARY:Teacher Only Day - School Closed
END:VEVENT
END:VCALENDAR
