BEGIN:VCALENDAR
VERSION:2.0
PRODID:icalendar-ruby
CALSCALE:GREGORIAN
BEGIN:VEVENT
DTSTAMP:20260425T164840Z
UID:04324e4e-ebe5-4e83-99bf-9c3b1ff50ff5
DTSTART;VALUE=DATE:20251204
DTEND;VALUE=DATE:20251206
SUMMARY:Year 4 Camp
END:VEVENT
END:VCALENDAR
