BEGIN:VCALENDAR
VERSION:2.0
PRODID:icalendar-ruby
CALSCALE:GREGORIAN
BEGIN:VEVENT
DTSTAMP:20260425T164957Z
UID:84af6080-89fd-4bf4-a583-ff632f64ea6b
DTSTART;VALUE=DATE:20251211
DTEND;VALUE=DATE:20251212
SUMMARY:Prize Giving and Year 6 Graduation
END:VEVENT
END:VCALENDAR
